BEGIN:VCALENDAR
VERSION:2.0
PRODID:SchoolNow
CALSCALE:GREGORIAN
BEGIN:VEVENT
UID:a06f5eb2-aaab-11f0-9b7a-0a58a9feac02
DTSTAMP:20251016T161735Z
SUMMARY:Kansas Recruit Day
URL;VALUE=URI:https://www.coffeyville.edu/calendar/8726937/kansas-recruit-d
 ay
DTSTART;VALUE=DATE:20251018
DTEND;VALUE=DATE:20251019
END:VEVENT
END:VCALENDAR
