BEGIN:VCALENDAR
VERSION:2.0
PRODID:SchoolNow
CALSCALE:GREGORIAN
BEGIN:VEVENT
UID:b6c8cd0e-b903-11f0-9f98-0e33ce6fd91d
DTSTAMP:20251103T222325Z
SUMMARY:Spring 2026 Enrollment Opens
URL;VALUE=URI:https://www.coffeyville.edu/calendar/8774171/spring-2026-enro
 llment-opens
DTSTART;VALUE=DATE:20251117
DTEND;VALUE=DATE:20251118
END:VEVENT
END:VCALENDAR
