BEGIN:VCALENDAR
VERSION:2.0
PRODID:SchoolNow
CALSCALE:GREGORIAN
BEGIN:VEVENT
UID:b116cbbc-b9a4-11f0-b49c-0a58a9feac02
DTSTAMP:20251104T173544Z
SUMMARY:Raven Talk - Jermaine Holt
LOCATION:Spencer Rounds Theatre
URL;VALUE=URI:https://www.coffeyville.edu/calendar/8775857/raven-talk-jerma
 ine-holt
DTSTART:20251119T210000Z
DTEND:20251119T220000Z
ATTACH;FILENAME=Holt Jermaine.jpg;FMTTYPE=image/jpeg:https://campussuite-st
 orage.s3.amazonaws.com/prod/33891/6364a13c-3a18-11e6-b537-22000bd8490f/303
 1588/8ca80020-b9a4-11f0-863c-0afff3d351ff/file/Holt Jermaine.jpg
END:VEVENT
END:VCALENDAR
