BEGIN:VCALENDAR
VERSION:2.0
PRODID:SchoolNow
CALSCALE:GREGORIAN
BEGIN:VEVENT
UID:e332fe5e-b9a4-11f0-831a-0a58a9feac02
DTSTAMP:20251104T173708Z
SUMMARY:Raven Talk - Trip Hawkins
LOCATION:Spencer Rounds Theatre
URL;VALUE=URI:https://www.coffeyville.edu/calendar/8775858/raven-talk-trip-
 hawkins
DTSTART:20251106T010000Z
DTEND:20251106T020000Z
END:VEVENT
END:VCALENDAR
