BEGIN:VCALENDAR
VERSION:2.0
PRODID:SchoolNow
CALSCALE:GREGORIAN
BEGIN:VEVENT
UID:81bb8cce-be57-11f0-a544-0a58a9feac02
DTSTAMP:20251110T170603Z
SUMMARY:PTK Food Drive
LOCATION:Nellis Hall
URL;VALUE=URI:https://www.coffeyville.edu/calendar/8787778/ptk-food-drive
DTSTART:20251122T200000Z
DTEND:20251122T220000Z
END:VEVENT
END:VCALENDAR
