BEGIN:VCALENDAR
VERSION:2.0
PRODID:SchoolNow
CALSCALE:GREGORIAN
BEGIN:VEVENT
UID:67fc38d2-6639-11ef-b828-02dea9ddefb1
DTSTAMP:20250326T160105Z
SUMMARY:2025 Foundation Scholarship Auction
LOCATION:Nellis West Gym
URL;VALUE=URI:https://www.coffeyville.edu/college-foundation/calendar/64840
 98/2025-foundation-scholarship-auction
DTSTART:20250502T213000Z
DTEND:20250503T033000Z
END:VEVENT
END:VCALENDAR
