BEGIN:VCALENDAR
VERSION:2.0
PRODID:SchoolNow
CALSCALE:GREGORIAN
BEGIN:VEVENT
UID:cc6b6950-06aa-11ed-9641-02821c5349db
DTSTAMP:20251022T204409Z
SUMMARY:Board of Trustees Meeting - Jun 19\, 2023
URL;VALUE=URI:https://www.coffeyville.edu/leadership/board-of-trustees/cale
 ndar/3247708/board-of-trustees-meeting-jun-19-2023
DTSTART:20230619T210000Z
DTEND:20230619T220000Z
END:VEVENT
END:VCALENDAR
