BEGIN:VCALENDAR
VERSION:2.0
PRODID:SchoolNow
CALSCALE:GREGORIAN
BEGIN:VEVENT
UID:fc18fb86-403d-11ee-8108-0a58a9feac02
DTSTAMP:20251022T204355Z
SUMMARY:Board of Trustees Meeting - Aug 21\, 2023
URL;VALUE=URI:https://www.coffeyville.edu/leadership/board-of-trustees/cale
 ndar/4604491/board-of-trustees-meeting-aug-21-2023
DTSTART:20230821T210000Z
DTEND:20230821T220000Z
END:VEVENT
END:VCALENDAR
