BEGIN:VCALENDAR
VERSION:2.0
PRODID:SchoolNow
CALSCALE:GREGORIAN
BEGIN:VEVENT
UID:4245ddde-4040-11ee-a00d-0a652199f1fd
DTSTAMP:20251022T204340Z
SUMMARY:Board of Trustees Meeting - Sep 18\, 2023
URL;VALUE=URI:https://www.coffeyville.edu/leadership/board-of-trustees/cale
 ndar/4604510/board-of-trustees-meeting-sep-18-2023
DTSTART:20230918T210000Z
DTEND:20230918T220000Z
END:VEVENT
END:VCALENDAR
