BEGIN:VCALENDAR
VERSION:2.0
PRODID:SchoolNow
CALSCALE:GREGORIAN
BEGIN:VEVENT
UID:dd735886-4040-11ee-bed5-02dbf2cfd78d
DTSTAMP:20251022T204316Z
SUMMARY:Board of Trustees Meeting - Nov 20\, 2023
URL;VALUE=URI:https://www.coffeyville.edu/leadership/board-of-trustees/cale
 ndar/4604511/board-of-trustees-meeting-nov-20-2023
DTSTART:20231120T220000Z
DTEND:20231120T230000Z
END:VEVENT
END:VCALENDAR
