BEGIN:VCALENDAR
VERSION:2.0
PRODID:SchoolNow
CALSCALE:GREGORIAN
BEGIN:VEVENT
UID:ee6f87c2-4040-11ee-a1bc-0a58a9feac02
DTSTAMP:20251022T204330Z
SUMMARY:Board of Trustees Meeting - Oct 16\, 2023
URL;VALUE=URI:https://www.coffeyville.edu/leadership/board-of-trustees/cale
 ndar/4604512/board-of-trustees-meeting-oct-16-2023
DTSTART:20231016T210000Z
DTEND:20231016T220000Z
END:VEVENT
END:VCALENDAR
