BEGIN:VCALENDAR
VERSION:2.0
PRODID:SchoolNow
CALSCALE:GREGORIAN
BEGIN:VEVENT
UID:fa40f612-4040-11ee-99e1-02dbf2cfd78d
DTSTAMP:20251022T204300Z
SUMMARY:Board of Trustees Meeting - Dec 18\, 2023
URL;VALUE=URI:https://www.coffeyville.edu/leadership/board-of-trustees/cale
 ndar/4604513/board-of-trustees-meeting-dec-18-2023
DTSTART:20231218T220000Z
DTEND:20231218T230000Z
END:VEVENT
END:VCALENDAR
