BEGIN:VCALENDAR
VERSION:2.0
PRODID:SchoolNow
CALSCALE:GREGORIAN
BEGIN:VEVENT
UID:075baf72-4041-11ee-9fb5-0a58a9feac02
DTSTAMP:20251022T203846Z
SUMMARY:Board of Trustees Meeting - Jan 22\, 2024
URL;VALUE=URI:https://www.coffeyville.edu/leadership/board-of-trustees/cale
 ndar/4604514/board-of-trustees-meeting-jan-22-2024
DTSTART:20240122T220000Z
DTEND:20240122T230000Z
END:VEVENT
END:VCALENDAR
