BEGIN:VCALENDAR
VERSION:2.0
PRODID:SchoolNow
CALSCALE:GREGORIAN
BEGIN:VEVENT
UID:2df90c74-4041-11ee-87a5-0a58a9feac02
DTSTAMP:20251022T203647Z
SUMMARY:Board of Trustees Meeting - Feb 19\, 2024
URL;VALUE=URI:https://www.coffeyville.edu/leadership/board-of-trustees/cale
 ndar/4604515/board-of-trustees-meeting-feb-19-2024
DTSTART:20240219T220000Z
DTEND:20240219T230000Z
END:VEVENT
END:VCALENDAR
