BEGIN:VCALENDAR
VERSION:2.0
PRODID:SchoolNow
CALSCALE:GREGORIAN
BEGIN:VEVENT
UID:3b76e42a-4041-11ee-a82a-0a472bfcd05f
DTSTAMP:20251022T203619Z
SUMMARY:Board of Trustees Meeting - Mar 18\, 2024
URL;VALUE=URI:https://www.coffeyville.edu/leadership/board-of-trustees/cale
 ndar/4604516/board-of-trustees-meeting-mar-18-2024
DTSTART:20240318T210000Z
DTEND:20240318T220000Z
END:VEVENT
END:VCALENDAR
