BEGIN:VCALENDAR
VERSION:2.0
PRODID:SchoolNow
CALSCALE:GREGORIAN
BEGIN:VEVENT
UID:45e1a8b4-4041-11ee-82a1-0ee8cc2816c9
DTSTAMP:20251022T203601Z
SUMMARY:Board of Trustees Meeting - Apr 22\, 2024
URL;VALUE=URI:https://www.coffeyville.edu/leadership/board-of-trustees/cale
 ndar/4604517/board-of-trustees-meeting-apr-22-2024
DTSTART:20240422T210000Z
DTEND:20240422T220000Z
END:VEVENT
END:VCALENDAR
