BEGIN:VCALENDAR
VERSION:2.0
PRODID:SchoolNow
CALSCALE:GREGORIAN
BEGIN:VEVENT
UID:7e797f44-4041-11ee-a964-02dbf2cfd78d
DTSTAMP:20251022T203506Z
SUMMARY:Board of Trustees Meeting - Jun 17\, 2024
URL;VALUE=URI:https://www.coffeyville.edu/leadership/board-of-trustees/cale
 ndar/4604519/board-of-trustees-meeting-jun-17-2024
DTSTART:20240617T210000Z
DTEND:20240617T220000Z
END:VEVENT
END:VCALENDAR
