BEGIN:VCALENDAR
VERSION:2.0
PRODID:SchoolNow
CALSCALE:GREGORIAN
BEGIN:VEVENT
UID:15729eba-d0e0-11ee-974c-02ca6f9cc6f7
DTSTAMP:20251022T203541Z
SUMMARY:Board of Trustees Retreat - Apr 22\, 2024
URL;VALUE=URI:https://www.coffeyville.edu/leadership/board-of-trustees/cale
 ndar/5375092/board-of-trustees-retreat-apr-22-2024
DTSTART;VALUE=DATE:20240422
DTEND;VALUE=DATE:20240423
END:VEVENT
END:VCALENDAR
