BEGIN:VCALENDAR
VERSION:2.0
PRODID:SchoolNow
CALSCALE:GREGORIAN
BEGIN:VEVENT
UID:3d2e1e0c-5e3e-11ef-8715-0e8ac933e25f
DTSTAMP:20251022T203139Z
SUMMARY:Board of Trustees Meeting - Feb 17\, 2025
LOCATION:Board Room in Arts and Science Building
URL;VALUE=URI:https://www.coffeyville.edu/leadership/board-of-trustees/cale
 ndar/6425331/board-of-trustees-meeting-feb-17-2025
DTSTART:20250217T230000Z
DTEND:20250218T000000Z
END:VEVENT
END:VCALENDAR
