BEGIN:VCALENDAR
VERSION:2.0
PRODID:SchoolNow
CALSCALE:GREGORIAN
BEGIN:VEVENT
UID:4c3c0e04-5e3e-11ef-a4f1-0a58a9feac02
DTSTAMP:20251022T203104Z
SUMMARY:Board of Trustees Meeting - Mar 24\, 2025
LOCATION:Board Room in Arts and Science Building
URL;VALUE=URI:https://www.coffeyville.edu/leadership/board-of-trustees/cale
 ndar/6425332/board-of-trustees-meeting-mar-24-2025
DTSTART:20250324T210000Z
DTEND:20250324T220000Z
END:VEVENT
END:VCALENDAR
