BEGIN:VCALENDAR
VERSION:2.0
PRODID:SchoolNow
CALSCALE:GREGORIAN
BEGIN:VEVENT
UID:5a40731e-5e3e-11ef-97f7-0a58a9feac02
DTSTAMP:20251022T203051Z
SUMMARY:Board of Trustees Meeting - Apr 21\, 2025
LOCATION:Board Room in Arts and Science Building
URL;VALUE=URI:https://www.coffeyville.edu/leadership/board-of-trustees/cale
 ndar/6425333/board-of-trustees-meeting-apr-21-2025
DTSTART:20250421T210000Z
DTEND:20250421T220000Z
END:VEVENT
END:VCALENDAR
