BEGIN:VCALENDAR
VERSION:2.0
PRODID:SchoolNow
CALSCALE:GREGORIAN
BEGIN:VEVENT
UID:68d8b134-5e3e-11ef-8c7a-0a58a9feac02
DTSTAMP:20251022T203035Z
SUMMARY:Board of Trustees Meeting - May 19\, 2025
LOCATION:Board Room in Arts and Science Building
URL;VALUE=URI:https://www.coffeyville.edu/leadership/board-of-trustees/cale
 ndar/6425334/board-of-trustees-meeting-may-19-2025
DTSTART:20250519T210000Z
DTEND:20250519T220000Z
END:VEVENT
END:VCALENDAR
