BEGIN:VCALENDAR
VERSION:2.0
PRODID:SchoolNow
CALSCALE:GREGORIAN
BEGIN:VEVENT
UID:71c7d5ea-5e3e-11ef-8eef-0a58a9feac02
DTSTAMP:20251022T203021Z
SUMMARY:Board of Trustees Meeting - Jun 16\, 2025
LOCATION:Board Room in Arts and Science Building
URL;VALUE=URI:https://www.coffeyville.edu/leadership/board-of-trustees/cale
 ndar/6425335/board-of-trustees-meeting-jun-16-2025
DTSTART:20250616T210000Z
DTEND:20250616T220000Z
END:VEVENT
END:VCALENDAR
