BEGIN:VCALENDAR
VERSION:2.0
PRODID:SchoolNow
CALSCALE:GREGORIAN
BEGIN:VEVENT
UID:28000dea-6641-11f0-a4ed-0a58a9feac02
DTSTAMP:20251022T202810Z
SUMMARY:Board of Trustees Meeting - Jul 21\, 2025
LOCATION:Board Room in Arts and Science Building
URL;VALUE=URI:https://www.coffeyville.edu/leadership/board-of-trustees/cale
 ndar/8434113/board-of-trustees-meeting-jul-21-2025
DTSTART:20250721T210000Z
DTEND:20250721T220000Z
END:VEVENT
END:VCALENDAR
