BEGIN:VCALENDAR
VERSION:2.0
PRODID:SchoolNow
CALSCALE:GREGORIAN
BEGIN:VEVENT
UID:3838b540-6641-11f0-a6e5-0afff061a507
DTSTAMP:20250808T134610Z
SUMMARY:Budget Hearing - Board of Trustees Meeting
LOCATION:Board Room in Arts and Science Building
URL;VALUE=URI:https://www.coffeyville.edu/leadership/board-of-trustees/cale
 ndar/8434114/board-of-trustees-meeting
DTSTART:20250825T210000Z
DTEND:20250825T220000Z
END:VEVENT
END:VCALENDAR
