BEGIN:VCALENDAR
VERSION:2.0
PRODID:SchoolNow
CALSCALE:GREGORIAN
BEGIN:VEVENT
UID:43f57616-6641-11f0-ac44-0a58a9feac02
DTSTAMP:20251022T202747Z
SUMMARY:Board of Trustees Meeting - Sep 15\, 2025
LOCATION:Board Room in Arts and Science Building
URL;VALUE=URI:https://www.coffeyville.edu/leadership/board-of-trustees/cale
 ndar/8434115/board-of-trustees-meeting-sep-15-2025
DTSTART:20250915T210000Z
DTEND:20250915T220000Z
END:VEVENT
END:VCALENDAR
