BEGIN:VCALENDAR
VERSION:2.0
PRODID:SchoolNow
CALSCALE:GREGORIAN
BEGIN:VEVENT
UID:01d4ee12-1929-11ef-92c3-0a58a9feac02
DTSTAMP:20240523T172218Z
SUMMARY:Memorial Day Service
LOCATION:Fairview Cemetary
URL;VALUE=URI:https://www.coffeyville.edu/student-organizations-and-activit
 ies/band/calendar/6017067/memorial-day-service
DTSTART:20240527T143000Z
DTEND:20240527T160000Z
END:VEVENT
END:VCALENDAR
