BEGIN:VCALENDAR
VERSION:2.0
PRODID:SchoolNow
CALSCALE:GREGORIAN
BEGIN:VEVENT
UID:f596f80e-7d1c-11ef-b7ca-0a58a9feac02
DTSTAMP:20240927T220928Z
SUMMARY:Dalton Defender Days Marching Festival
LOCATION:Veterans Memorial Stadium
URL;VALUE=URI:https://www.coffeyville.edu/student-organizations-and-activit
 ies/band/calendar/6705153/dalton-defender-days-marching-festival
DTSTART:20241008T110000Z
DTEND:20241008T190000Z
END:VEVENT
END:VCALENDAR
