BEGIN:VCALENDAR
VERSION:2.0
PRODID:SchoolNow
CALSCALE:GREGORIAN
BEGIN:VEVENT
UID:0a1d9d64-fb67-11ef-86dc-0a58a9feac02
DTSTAMP:20250307T151544Z
SUMMARY:John F. Griffin Jr. - Woodwind Master Class
LOCATION:Nellis Gymnasium Room 106
URL;VALUE=URI:https://www.coffeyville.edu/student-organizations-and-activit
 ies/band/calendar/7626003/john-f-griffin-jr-woodwind-master-class
DTSTART:20250313T180000Z
DTEND:20250313T190000Z
END:VEVENT
END:VCALENDAR
