BEGIN:VCALENDAR
VERSION:2.0
PRODID:SchoolNow
CALSCALE:GREGORIAN
BEGIN:VEVENT
UID:861e60e4-c969-11f0-986a-0a58a9feac02
DTSTAMP:20251124T191230Z
SUMMARY:Instrumental and Voice Spring Recital
LOCATION:Spencer Rounds Theatre
URL;VALUE=URI:https://www.coffeyville.edu/student-organizations-and-activit
 ies/band/calendar/8809092/instrumental-and-voice-spring-recital
DTSTART:20260427T173000Z
DTEND:20260427T183000Z
END:VEVENT
END:VCALENDAR
