BEGIN:VCALENDAR
VERSION:2.0
PRODID:SchoolNow
CALSCALE:GREGORIAN
BEGIN:VEVENT
UID:88f072d0-c969-11f0-b666-02ea2a6aa5a3
DTSTAMP:20251124T191235Z
SUMMARY:Holiday Favorites Band and Choir Concert
LOCATION:Spencer Rounds Theater
URL;VALUE=URI:https://www.coffeyville.edu/student-organizations-and-activit
 ies/band/calendar/8809093/holiday-favorites-band-and-choir-concert
DTSTART:20251205T010000Z
DTEND:20251205T020000Z
END:VEVENT
END:VCALENDAR
