BEGIN:VCALENDAR
VERSION:2.0
PRODID:SchoolNow
CALSCALE:GREGORIAN
BEGIN:VEVENT
UID:8b887a1a-c969-11f0-9f34-0affdcfcd8a3
DTSTAMP:20260114T172028Z
SUMMARY:Choirfest
LOCATION:Spencer Rounds Theatre
URL;VALUE=URI:https://www.coffeyville.edu/student-organizations-and-activit
 ies/band/calendar/8809094/choirfest
DTSTART:20260212T140000Z
DTEND:20260212T220000Z
END:VEVENT
END:VCALENDAR
