BEGIN:VCALENDAR
VERSION:2.0
PRODID:SchoolNow
CALSCALE:GREGORIAN
BEGIN:VEVENT
UID:8e09e7a6-c969-11f0-8de1-0affdcfcd8a3
DTSTAMP:20251124T191244Z
SUMMARY:Mass Band Day
LOCATION:Spencer Rounds Theatre
URL;VALUE=URI:https://www.coffeyville.edu/student-organizations-and-activit
 ies/band/calendar/8809095/mass-band-day
DTSTART:20260219T140000Z
DTEND:20260219T220000Z
END:VEVENT
END:VCALENDAR
