BEGIN:VCALENDAR
VERSION:2.0
PRODID:SchoolNow
CALSCALE:GREGORIAN
BEGIN:VEVENT
UID:ff7e08e8-1e42-11ed-8283-0a8f2baa1d3d
DTSTAMP:20220817T154102Z
SUMMARY:Children's Summer Theatre Camp
URL;VALUE=URI:https://www.coffeyville.edu/student-organizations-and-activit
 ies/fine-arts/calendar/3284944/childrens-summer-theatre-camp
DTSTART:20230522T180000Z
DTEND:20230623T220000Z
END:VEVENT
END:VCALENDAR
