BEGIN:VCALENDAR
VERSION:2.0
PRODID:SchoolNow
CALSCALE:GREGORIAN
BEGIN:VEVENT
UID:136e6c1e-ce72-11ed-b598-028f6559af11
DTSTAMP:20231010T020221Z
SUMMARY:Dalton Defender Days Marching Festival
LOCATION:Veterans Memorial Stadium
URL;VALUE=URI:https://www.coffeyville.edu/student-organizations-and-activit
 ies/fine-arts/calendar/3945667/dalton-defender-days-marching-festival
DTSTART:20231010T140000Z
DTEND:20231010T220000Z
END:VEVENT
END:VCALENDAR
