BEGIN:VCALENDAR
VERSION:2.0
PRODID:SchoolNow
CALSCALE:GREGORIAN
BEGIN:VEVENT
UID:3c80496a-ce72-11ed-a435-028f6559af11
DTSTAMP:20230329T204235Z
SUMMARY:CCC Choirs Concert
LOCATION:Spencer / Rounds Theatre
URL;VALUE=URI:https://www.coffeyville.edu/student-organizations-and-activit
 ies/fine-arts/calendar/3945669/ccc-choirs-concert
DTSTART:20230506T000000Z
DTEND:20230506T010000Z
END:VEVENT
END:VCALENDAR
