BEGIN:VCALENDAR
VERSION:2.0
PRODID:SchoolNow
CALSCALE:GREGORIAN
BEGIN:VEVENT
UID:0c0d8ed4-d7da-11ed-830f-02631f9e5e0d
DTSTAMP:20231024T222941Z
SUMMARY:Fine Arts Hall of Fame
LOCATION:Spencer / Rounds Theatre
URL;VALUE=URI:https://www.coffeyville.edu/student-organizations-and-activit
 ies/fine-arts/calendar/4021397/fine-arts-hall-of-fame
DTSTART:20231028T003000Z
DTEND:20231028T013000Z
END:VEVENT
END:VCALENDAR
