BEGIN:VCALENDAR
VERSION:2.0
PRODID:SchoolNow
CALSCALE:GREGORIAN
BEGIN:VEVENT
UID:0750ee06-2fe4-11ee-9404-0a98f260fbcb
DTSTAMP:20230908T194159Z
SUMMARY:Choir Festival
URL;VALUE=URI:https://www.coffeyville.edu/student-organizations-and-activit
 ies/fine-arts/calendar/4535748/choir-festival
DTSTART:20231005T213000Z
DTEND:20231005T223000Z
END:VEVENT
END:VCALENDAR
