BEGIN:VCALENDAR
VERSION:2.0
PRODID:SchoolNow
CALSCALE:GREGORIAN
BEGIN:VEVENT
UID:eb83ccaa-2fe5-11ee-8e85-0a58a9feac02
DTSTAMP:20230731T210504Z
SUMMARY:Dalton Defender Days Performance
LOCATION:Downtown Coffeyville
URL;VALUE=URI:https://www.coffeyville.edu/student-organizations-and-activit
 ies/fine-arts/calendar/4535751/dalton-defender-days-performance
DTSTART:20231007T140000Z
DTEND:20231007T150000Z
END:VEVENT
END:VCALENDAR
