BEGIN:VCALENDAR
VERSION:2.0
PRODID:SchoolNow
CALSCALE:GREGORIAN
BEGIN:VEVENT
UID:0173ea44-2fe7-11ee-9061-0a58a9feac02
DTSTAMP:20231130T164454Z
SUMMARY:Christmas Choir Concert/Student Recital
LOCATION:Spencer / Rounds Performing Arts Theatre
URL;VALUE=URI:https://www.coffeyville.edu/student-organizations-and-activit
 ies/fine-arts/calendar/4535761/christmas-choir-concert-student-recital
DTSTART:20231205T010000Z
DTEND:20231205T020000Z
END:VEVENT
END:VCALENDAR
