BEGIN:VCALENDAR
VERSION:2.0
PRODID:SchoolNow
CALSCALE:GREGORIAN
BEGIN:VEVENT
UID:2e568e5e-2fe7-11ee-888e-0a58a9feac02
DTSTAMP:20231130T164507Z
SUMMARY:Christmas on the Plaza\, Community Choir & Band
LOCATION:Downtown Coffeyville
URL;VALUE=URI:https://www.coffeyville.edu/student-organizations-and-activit
 ies/fine-arts/calendar/4535764/christmas-on-the-plaza-community-choir-band
DTSTART:20231203T000000Z
DTEND:20231203T010000Z
END:VEVENT
END:VCALENDAR
