BEGIN:VCALENDAR
VERSION:2.0
PRODID:SchoolNow
CALSCALE:GREGORIAN
BEGIN:VEVENT
UID:a5c5b532-2fe7-11ee-a12c-0a58a9feac02
DTSTAMP:20230731T211726Z
SUMMARY:Choir/Band Audition Day
URL;VALUE=URI:https://www.coffeyville.edu/student-organizations-and-activit
 ies/fine-arts/calendar/4535768/choir-band-audition-day
DTSTART:20240219T221600Z
DTEND:20240219T231600Z
END:VEVENT
END:VCALENDAR
