BEGIN:VCALENDAR
VERSION:2.0
PRODID:SchoolNow
CALSCALE:GREGORIAN
BEGIN:VEVENT
UID:aba6408e-2fe7-11ee-ab3c-02ef8f5c4d55
DTSTAMP:20231219T202739Z
SUMMARY:Chocolate Serenade Valentines Dessert Concert
URL;VALUE=URI:https://www.coffeyville.edu/student-organizations-and-activit
 ies/fine-arts/calendar/4535769/chocolate-serenade-valentines-dessert-conce
 rt
DTSTART:20240211T010000Z
DTEND:20240211T020000Z
END:VEVENT
END:VCALENDAR
