BEGIN:VCALENDAR
VERSION:2.0
PRODID:SchoolNow
CALSCALE:GREGORIAN
BEGIN:VEVENT
UID:f2b5cd7c-6d14-11ee-b344-0a1b9c73b359
DTSTAMP:20231017T174704Z
SUMMARY:Lucky Stiff Performance
LOCATION:Spencer / Rounds Theatre
URL;VALUE=URI:https://www.coffeyville.edu/student-organizations-and-activit
 ies/fine-arts/calendar/4875081/lucky-stiff-performance
DTSTART:20231021T000000Z
DTEND:20231021T010000Z
END:VEVENT
END:VCALENDAR
