BEGIN:VCALENDAR
VERSION:2.0
PRODID:SchoolNow
CALSCALE:GREGORIAN
BEGIN:VEVENT
UID:fa43704e-6d14-11ee-8af9-0e3285d64e67
DTSTAMP:20231017T174658Z
SUMMARY:Lucky Stiff Performance
LOCATION:Spencer / Rounds Theatre
URL;VALUE=URI:https://www.coffeyville.edu/student-organizations-and-activit
 ies/fine-arts/calendar/4875082/lucky-stiff-performance-clone
DTSTART:20231022T000000Z
DTEND:20231022T010000Z
END:VEVENT
END:VCALENDAR
