BEGIN:VCALENDAR
VERSION:2.0
PRODID:SchoolNow
CALSCALE:GREGORIAN
BEGIN:VEVENT
UID:0267886e-6d15-11ee-a08b-0e3285d64e67
DTSTAMP:20231017T174652Z
SUMMARY:Lucky Stiff Performance
LOCATION:Spencer / Rounds Theatre
URL;VALUE=URI:https://www.coffeyville.edu/student-organizations-and-activit
 ies/fine-arts/calendar/4875083/lucky-stiff-performance-clone
DTSTART:20231022T190000Z
DTEND:20231022T200000Z
END:VEVENT
END:VCALENDAR
