BEGIN:VCALENDAR
VERSION:2.0
PRODID:SchoolNow
CALSCALE:GREGORIAN
BEGIN:VEVENT
UID:5b8e04ae-e623-11ee-bf3f-021f8f7ba9c1
DTSTAMP:20240418T145842Z
SUMMARY:Noises Off by Michael Frayn - Spring Musical
LOCATION:Spencer / Rounds Theatre
URL;VALUE=URI:https://www.coffeyville.edu/student-organizations-and-activit
 ies/fine-arts/calendar/5582620/spring-musical-noises-off-by-michael-frayn
DTSTART:20240426T000000Z
DTEND:20240426T013000Z
END:VEVENT
END:VCALENDAR
