BEGIN:VCALENDAR
VERSION:2.0
PRODID:SchoolNow
CALSCALE:GREGORIAN
BEGIN:VEVENT
UID:77f45a76-e623-11ee-8fb1-0e15364bfd9b
DTSTAMP:20240326T163916Z
SUMMARY:Noises Off by Michael Frayn - Spring Musical
LOCATION:Spencer / Rounds Theatre
URL;VALUE=URI:https://www.coffeyville.edu/student-organizations-and-activit
 ies/fine-arts/calendar/5582623/spring-musical-noises-off-by-michael-frayn
DTSTART:20240427T000000Z
DTEND:20240427T013000Z
END:VEVENT
END:VCALENDAR
