BEGIN:VCALENDAR
VERSION:2.0
PRODID:SchoolNow
CALSCALE:GREGORIAN
BEGIN:VEVENT
UID:7c92e318-e623-11ee-82a6-0e15364bfd9b
DTSTAMP:20240326T163925Z
SUMMARY:Noises Off by Michael Frayn - Spring Musical
LOCATION:Spencer / Rounds Theatre
URL;VALUE=URI:https://www.coffeyville.edu/student-organizations-and-activit
 ies/fine-arts/calendar/5582624/spring-musical-noises-off-by-michael-frayn
DTSTART:20240428T190000Z
DTEND:20240428T203000Z
END:VEVENT
END:VCALENDAR
