BEGIN:VCALENDAR
VERSION:2.0
PRODID:SchoolNow
CALSCALE:GREGORIAN
BEGIN:VEVENT
UID:8d087c34-d41c-11ef-b723-02a40193950d
DTSTAMP:20250408T180736Z
SUMMARY:CCC Musical Performance - I'm Getting My Act Together and Taking It
  on the Road
LOCATION:Spencer / Rounds Theatre
URL;VALUE=URI:https://www.coffeyville.edu/student-organizations-and-activit
 ies/fine-arts/calendar/7324715/ccc-musical-performance-im-getting-my-act-t
 ogether-and-taking-it-on-the-road
DTSTART:20250425T000000Z
DTEND:20250425T010000Z
END:VEVENT
END:VCALENDAR
